BEGIN:VCALENDAR
VERSION:2.0
PRODID:-//Reversing Runaway Inequality - ECPv6.15.15//NONSGML v1.0//EN
CALSCALE:GREGORIAN
METHOD:PUBLISH
X-WR-CALNAME:Reversing Runaway Inequality
X-ORIGINAL-URL:https://runawayinequality.org
X-WR-CALDESC:Events for Reversing Runaway Inequality
REFRESH-INTERVAL;VALUE=DURATION:PT1H
X-Robots-Tag:noindex
X-PUBLISHED-TTL:PT1H
BEGIN:VTIMEZONE
TZID:UTC
BEGIN:STANDARD
TZOFFSETFROM:+0000
TZOFFSETTO:+0000
TZNAME:UTC
DTSTART:20160101T000000
END:STANDARD
END:VTIMEZONE
BEGIN:VEVENT
DTSTART;TZID=UTC:20170708T080000
DTEND;TZID=UTC:20170708T170000
DTSTAMP:20260421T093514
CREATED:20180921T163148Z
LAST-MODIFIED:20180921T163148Z
UID:12845-1499500800-1499533200@runawayinequality.org
SUMMARY:Full day with DSA Locals\, Austin Tx\, July 2017
DESCRIPTION:
URL:https://runawayinequality.org/event/full-day-with-dsa-locals/
LOCATION:Austin TX\, Austin\, TX\, United States
CATEGORIES:Photos,Workshop
END:VEVENT
END:VCALENDAR