BEGIN:VCALENDAR
VERSION:2.0
PRODID:-//Reversing Runaway Inequality - ECPv6.15.15//NONSGML v1.0//EN
CALSCALE:GREGORIAN
METHOD:PUBLISH
X-WR-CALNAME:Reversing Runaway Inequality
X-ORIGINAL-URL:https://runawayinequality.org
X-WR-CALDESC:Events for Reversing Runaway Inequality
REFRESH-INTERVAL;VALUE=DURATION:PT1H
X-Robots-Tag:noindex
X-PUBLISHED-TTL:PT1H
BEGIN:VTIMEZONE
TZID:UTC
BEGIN:STANDARD
TZOFFSETFROM:+0000
TZOFFSETTO:+0000
TZNAME:UTC
DTSTART:20160101T000000
END:STANDARD
END:VTIMEZONE
BEGIN:VEVENT
DTSTART;TZID=UTC:20170626T130000
DTEND;TZID=UTC:20170626T170000
DTSTAMP:20260420T202718
CREATED:20181023T181822Z
LAST-MODIFIED:20181023T181822Z
UID:13954-1498482000-1498496400@runawayinequality.org
SUMMARY:Workshop with VT RAD and VT Workers Center
DESCRIPTION:
URL:https://runawayinequality.org/event/workshop-with-vt-rad-and-vt-workers-center-2/
LOCATION:200 Pleasant Street\, Bennington\, VT\, United States
END:VEVENT
BEGIN:VEVENT
DTSTART;TZID=UTC:20170626T080000
DTEND;TZID=UTC:20170626T170000
DTSTAMP:20260420T202718
CREATED:20180921T163126Z
LAST-MODIFIED:20180921T163126Z
UID:12806-1498464000-1498496400@runawayinequality.org
SUMMARY:Full day with CWA Locals 1101 - 1102 - 1106 - 1109 - 1180
DESCRIPTION:
URL:https://runawayinequality.org/event/full-day-with-cwa-locals-1101-1102-1106-1109-1180/
LOCATION:New York NY\, New York\, NY\, United States
END:VEVENT
BEGIN:VEVENT
DTSTART;TZID=UTC:20170621T080000
DTEND;TZID=UTC:20170621T170000
DTSTAMP:20260420T202718
CREATED:20180921T163126Z
LAST-MODIFIED:20180921T163126Z
UID:12805-1498032000-1498064400@runawayinequality.org
SUMMARY:Full day with CWA Locals 1101 - 1106 - 1180
DESCRIPTION:
URL:https://runawayinequality.org/event/full-day-with-cwa-locals-1101-1106-1180/
LOCATION:New York NY\, New York\, NY\, United States
END:VEVENT
BEGIN:VEVENT
DTSTART;TZID=UTC:20170616T080000
DTEND;TZID=UTC:20170616T170000
DTSTAMP:20260420T202718
CREATED:20180921T163126Z
LAST-MODIFIED:20180921T163126Z
UID:12804-1497600000-1497632400@runawayinequality.org
SUMMARY:Full day with CWA Locals 1104 - 1108
DESCRIPTION:
URL:https://runawayinequality.org/event/full-day-with-cwa-locals-1104-1108-2/
LOCATION:Melville NY\, Melville\, NY\, United States
END:VEVENT
BEGIN:VEVENT
DTSTART;TZID=UTC:20170615T080000
DTEND;TZID=UTC:20170615T170000
DTSTAMP:20260420T202718
CREATED:20180921T163124Z
LAST-MODIFIED:20180921T163124Z
UID:12803-1497513600-1497546000@runawayinequality.org
SUMMARY:Full day with CWA Locals 3603 - 3640 - 3601 - 3616 - 3505
DESCRIPTION:
URL:https://runawayinequality.org/event/full-day-with-cwa-locals-3603-3640-3601-3616-3505/
LOCATION:Charlotte NC\, Charlotte\, NC\, United States
END:VEVENT
BEGIN:VEVENT
DTSTART;TZID=UTC:20170614T080000
DTEND;TZID=UTC:20170614T170000
DTSTAMP:20260420T202718
CREATED:20180921T163124Z
LAST-MODIFIED:20180921T163124Z
UID:12802-1497427200-1497459600@runawayinequality.org
SUMMARY:Full day with CWA Locals 1122
DESCRIPTION:
URL:https://runawayinequality.org/event/full-day-with-cwa-locals-1122-2/
LOCATION:Buffalo NY\, Buffalo\, NY\, United States
END:VEVENT
BEGIN:VEVENT
DTSTART;TZID=UTC:20170614T080000
DTEND;TZID=UTC:20170614T170000
DTSTAMP:20260420T202718
CREATED:20180921T163123Z
LAST-MODIFIED:20180921T163123Z
UID:12801-1497427200-1497459600@runawayinequality.org
SUMMARY:Full day with CWA Locals IUE - 4320 - 4502 - 4322
DESCRIPTION:
URL:https://runawayinequality.org/event/full-day-with-cwa-locals-iue-4320-4502-4322/
LOCATION:Columbus OH\, Columbus\, OH\, United States
END:VEVENT
BEGIN:VEVENT
DTSTART;TZID=UTC:20170613T080000
DTEND;TZID=UTC:20170613T170000
DTSTAMP:20260420T202718
CREATED:20180921T163123Z
LAST-MODIFIED:20180921T163123Z
UID:12800-1497340800-1497373200@runawayinequality.org
SUMMARY:Full day with CWA Locals 4324 - 4322 - 4320 - 4302
DESCRIPTION:
URL:https://runawayinequality.org/event/full-day-with-cwa-locals-4324-4322-4320-4302/
LOCATION:Daytona OH\, Daytona\, OH\, United States
END:VEVENT
BEGIN:VEVENT
DTSTART;TZID=UTC:20170603T131500
DTEND;TZID=UTC:20170603T151500
DTSTAMP:20260420T202718
CREATED:20181023T181822Z
LAST-MODIFIED:20181023T181822Z
UID:13953-1496495700-1496502900@runawayinequality.org
SUMMARY:Workshop with All Justice Works participants
DESCRIPTION:
URL:https://runawayinequality.org/event/workshop-with-all-justice-works-participants-2/
LOCATION:The Desmond\, Albany\, NY\, United States
END:VEVENT
BEGIN:VEVENT
DTSTART;TZID=UTC:20170601T080000
DTEND;TZID=UTC:20170601T170000
DTSTAMP:20260420T202718
CREATED:20180921T163122Z
LAST-MODIFIED:20180921T163122Z
UID:12799-1496304000-1496336400@runawayinequality.org
SUMMARY:Full day with CWA Locals 1168
DESCRIPTION:
URL:https://runawayinequality.org/event/full-day-with-cwa-locals-1168/
LOCATION:Buffalo NY\, Buffalo\, NY\, United States
END:VEVENT
BEGIN:VEVENT
DTSTART;TZID=UTC:20170601T000000
DTEND;TZID=UTC:20170601T000000
DTSTAMP:20260420T202718
CREATED:20181009T140122Z
LAST-MODIFIED:20181009T140122Z
UID:13453-1496275200-1496275200@runawayinequality.org
SUMMARY:Workshop with Middlesex County Education Association
DESCRIPTION:
URL:https://runawayinequality.org/event/workshop-with-middlesex-county-education-association-2/
END:VEVENT
BEGIN:VEVENT
DTSTART;TZID=UTC:20170601T000000
DTEND;TZID=UTC:20170601T000000
DTSTAMP:20260420T202718
CREATED:20181009T140122Z
LAST-MODIFIED:20181009T140122Z
UID:13452-1496275200-1496275200@runawayinequality.org
SUMMARY:Workshop with CWA Local 1033
DESCRIPTION:
URL:https://runawayinequality.org/event/workshop-with-cwa-local-1033/
END:VEVENT
BEGIN:VEVENT
DTSTART;TZID=UTC:20170531T080000
DTEND;TZID=UTC:20170531T170000
DTSTAMP:20260420T202718
CREATED:20180921T163121Z
LAST-MODIFIED:20180921T163121Z
UID:12798-1496217600-1496250000@runawayinequality.org
SUMMARY:Full day with CWA Locals 4009 - 4123 - 4007 - 4100 - 4004 - 4050
DESCRIPTION:
URL:https://runawayinequality.org/event/full-day-with-cwa-locals-4009-4123-4007-4100-4004-4050/
LOCATION:Southfeld MI\, Southfeld\, MI\, United States
END:VEVENT
BEGIN:VEVENT
DTSTART;TZID=UTC:20170530T080000
DTEND;TZID=UTC:20170530T170000
DTSTAMP:20260420T202718
CREATED:20180921T163120Z
LAST-MODIFIED:20180921T163120Z
UID:12797-1496131200-1496163600@runawayinequality.org
SUMMARY:Full day with CWA Locals 3640 - 3607 - 3603
DESCRIPTION:
URL:https://runawayinequality.org/event/full-day-with-cwa-locals-3640-3607-3603/
LOCATION:Greensboro NC\, Greensboro\, NC\, United States
END:VEVENT
BEGIN:VEVENT
DTSTART;TZID=UTC:20170524T080000
DTEND;TZID=UTC:20170524T170000
DTSTAMP:20260420T202718
CREATED:20180921T163120Z
LAST-MODIFIED:20180921T163120Z
UID:12796-1495612800-1495645200@runawayinequality.org
SUMMARY:Full day with CWA Locals 4035 - 4034 - 4123 - 4032
DESCRIPTION:
URL:https://runawayinequality.org/event/full-day-with-cwa-locals-4035-4034-4123-4032/
LOCATION:Grand Rapids MI\, Grand Rapids\, MI\, United States
END:VEVENT
BEGIN:VEVENT
DTSTART;TZID=UTC:20170517T080000
DTEND;TZID=UTC:20170517T170000
DTSTAMP:20260420T202718
CREATED:20180921T163120Z
LAST-MODIFIED:20180921T163120Z
UID:12795-1495008000-1495040400@runawayinequality.org
SUMMARY:Full day with CWA Locals 4103 - 4123 - 4008 - 4009
DESCRIPTION:
URL:https://runawayinequality.org/event/full-day-with-cwa-locals-4103-4123-4008-4009/
LOCATION:Southfeld MI\, Southfeld\, MI\, United States
END:VEVENT
BEGIN:VEVENT
DTSTART;TZID=UTC:20170506T090000
DTEND;TZID=UTC:20170506T150000
DTSTAMP:20260420T202718
CREATED:20181023T181820Z
LAST-MODIFIED:20181023T181820Z
UID:13950-1494061200-1494082800@runawayinequality.org
SUMMARY:Full-day workshop with Episcopalian Public Policy
DESCRIPTION:
URL:https://runawayinequality.org/event/full-day-workshop-with-episcopalian-public-policy-2/
LOCATION:183 N Main St.\, Canandaigua\, NY\, 14424\, United States
END:VEVENT
BEGIN:VEVENT
DTSTART;TZID=UTC:20170503T173000
DTEND;TZID=UTC:20170503T203000
DTSTAMP:20260420T202718
CREATED:20181023T181820Z
LAST-MODIFIED:20181023T181820Z
UID:13949-1493832600-1493843400@runawayinequality.org
SUMMARY:Workshop with Alliance for Retired Americans
DESCRIPTION:
URL:https://runawayinequality.org/event/workshop-with-alliance-for-retired-americans-2/
LOCATION:Saratoga Springs Public Library\, Saratoga Springs\, NY\, United States
END:VEVENT
BEGIN:VEVENT
DTSTART;TZID=UTC:20170502T000000
DTEND;TZID=UTC:20170503T000000
DTSTAMP:20260420T202718
CREATED:20181009T135842Z
LAST-MODIFIED:20181009T135842Z
UID:13353-1493683200-1493769600@runawayinequality.org
SUMMARY:Train-the-Trainer
DESCRIPTION:
URL:https://runawayinequality.org/event/train-the-trainer-3/
LOCATION:Cleveland OH\, Cleveland\, OH\, United States
END:VEVENT
BEGIN:VEVENT
DTSTART;TZID=UTC:20170501T000000
DTEND;TZID=UTC:20170501T000000
DTSTAMP:20260420T202718
CREATED:20181009T140154Z
LAST-MODIFIED:20181009T140154Z
UID:13473-1493596800-1493596800@runawayinequality.org
SUMMARY:Workshop with LEARN/Public Banking Institute
DESCRIPTION:
URL:https://runawayinequality.org/event/workshop-with-learn-public-banking-institute/
END:VEVENT
BEGIN:VEVENT
DTSTART;TZID=UTC:20170501T000000
DTEND;TZID=UTC:20170501T000000
DTSTAMP:20260420T202718
CREATED:20181009T140153Z
LAST-MODIFIED:20181009T140153Z
UID:13472-1493596800-1493596800@runawayinequality.org
SUMMARY:Workshop with South Jersey Women for Progressive Change
DESCRIPTION:
URL:https://runawayinequality.org/event/workshop-with-south-jersey-women-for-progressive-change/
END:VEVENT
BEGIN:VEVENT
DTSTART;TZID=UTC:20170501T000000
DTEND;TZID=UTC:20170501T000000
DTSTAMP:20260420T202718
CREATED:20181009T140152Z
LAST-MODIFIED:20181009T140152Z
UID:13471-1493596800-1493596800@runawayinequality.org
SUMMARY:Workshop with Rutgers United Students Against Sweatshops
DESCRIPTION:
URL:https://runawayinequality.org/event/workshop-with-rutgers-united-students-against-sweatshops/
END:VEVENT
BEGIN:VEVENT
DTSTART;TZID=UTC:20170408T180000
DTEND;TZID=UTC:20170408T220000
DTSTAMP:20260420T202718
CREATED:20181023T181818Z
LAST-MODIFIED:20181023T181818Z
UID:13945-1491674400-1491688800@runawayinequality.org
SUMMARY:Workshop with Citizen Action
DESCRIPTION:
URL:https://runawayinequality.org/event/workshop-with-citizen-action-8/
LOCATION:City College of New York\, Harlem\, NY\, United States
END:VEVENT
BEGIN:VEVENT
DTSTART;TZID=UTC:20170401T000000
DTEND;TZID=UTC:20170401T000000
DTSTAMP:20260420T202718
CREATED:20181009T140039Z
LAST-MODIFIED:20181009T140039Z
UID:13427-1491004800-1491004800@runawayinequality.org
SUMMARY:Workshop with 15 Now!
DESCRIPTION:
URL:https://runawayinequality.org/event/workshop-with-15-now/
END:VEVENT
BEGIN:VEVENT
DTSTART;TZID=UTC:20170401T000000
DTEND;TZID=UTC:20170401T000000
DTSTAMP:20260420T202718
CREATED:20181009T140038Z
LAST-MODIFIED:20181009T140038Z
UID:13426-1491004800-1491004800@runawayinequality.org
SUMMARY:Workshop with Rutgers ONE
DESCRIPTION:
URL:https://runawayinequality.org/event/workshop-with-rutgers-one/
END:VEVENT
BEGIN:VEVENT
DTSTART;TZID=UTC:20170331T000000
DTEND;TZID=UTC:20170331T000000
DTSTAMP:20260420T202718
CREATED:20180921T163054Z
LAST-MODIFIED:20180921T163054Z
UID:12756-1490918400-1490918400@runawayinequality.org
SUMMARY:? with Locals Allies (Sierra Club Host)
DESCRIPTION:
URL:https://runawayinequality.org/event/with-locals-allies-sierra-club-host/
LOCATION:Detroit MI\, Detroit\, MI\, United States
END:VEVENT
BEGIN:VEVENT
DTSTART;TZID=UTC:20170301T000000
DTEND;TZID=UTC:20170302T000000
DTSTAMP:20260420T202718
CREATED:20181009T135921Z
LAST-MODIFIED:20181009T135921Z
UID:13377-1488326400-1488412800@runawayinequality.org
SUMMARY:Train-the-Trainer
DESCRIPTION:
URL:https://runawayinequality.org/event/train-the-trainer-8/
LOCATION:Rutgers University\, New Brunswick\, NJ\, United States
END:VEVENT
BEGIN:VEVENT
DTSTART;TZID=UTC:20170301T000000
DTEND;TZID=UTC:20170301T000000
DTSTAMP:20260420T202718
CREATED:20181009T140136Z
LAST-MODIFIED:20181009T140136Z
UID:13463-1488326400-1488326400@runawayinequality.org
SUMMARY:Workshop with The Latino Institute
DESCRIPTION:
URL:https://runawayinequality.org/event/workshop-with-the-latino-institute/
END:VEVENT
BEGIN:VEVENT
DTSTART;TZID=UTC:20170301T000000
DTEND;TZID=UTC:20170301T000000
DTSTAMP:20260420T202718
CREATED:20181009T140135Z
LAST-MODIFIED:20181009T140135Z
UID:13461-1488326400-1488326400@runawayinequality.org
SUMMARY:Workshop with CWA Local 1036
DESCRIPTION:
URL:https://runawayinequality.org/event/workshop-with-cwa-local-1036-2/
END:VEVENT
BEGIN:VEVENT
DTSTART;TZID=UTC:20170301T000000
DTEND;TZID=UTC:20170301T000000
DTSTAMP:20260420T202718
CREATED:20181009T140135Z
LAST-MODIFIED:20181009T140135Z
UID:13462-1488326400-1488326400@runawayinequality.org
SUMMARY:Workshop with Coalition of Labor Union Women
DESCRIPTION:
URL:https://runawayinequality.org/event/workshop-with-coalition-of-labor-union-women/
END:VEVENT
END:VCALENDAR