BEGIN:VCALENDAR
VERSION:2.0
PRODID:-//Reversing Runaway Inequality - ECPv6.15.15//NONSGML v1.0//EN
CALSCALE:GREGORIAN
METHOD:PUBLISH
X-WR-CALNAME:Reversing Runaway Inequality
X-ORIGINAL-URL:https://runawayinequality.org
X-WR-CALDESC:Events for Reversing Runaway Inequality
REFRESH-INTERVAL;VALUE=DURATION:PT1H
X-Robots-Tag:noindex
X-PUBLISHED-TTL:PT1H
BEGIN:VTIMEZONE
TZID:UTC
BEGIN:STANDARD
TZOFFSETFROM:+0000
TZOFFSETTO:+0000
TZNAME:UTC
DTSTART:20150101T000000
END:STANDARD
END:VTIMEZONE
BEGIN:VEVENT
DTSTART;TZID=UTC:20170501T000000
DTEND;TZID=UTC:20170501T000000
DTSTAMP:20260420T235312
CREATED:20181009T140153Z
LAST-MODIFIED:20181009T140153Z
UID:13472-1493596800-1493596800@runawayinequality.org
SUMMARY:Workshop with South Jersey Women for Progressive Change
DESCRIPTION:
URL:https://runawayinequality.org/event/workshop-with-south-jersey-women-for-progressive-change/
END:VEVENT
BEGIN:VEVENT
DTSTART;TZID=UTC:20170501T000000
DTEND;TZID=UTC:20170501T000000
DTSTAMP:20260420T235312
CREATED:20181009T140152Z
LAST-MODIFIED:20181009T140152Z
UID:13471-1493596800-1493596800@runawayinequality.org
SUMMARY:Workshop with Rutgers United Students Against Sweatshops
DESCRIPTION:
URL:https://runawayinequality.org/event/workshop-with-rutgers-united-students-against-sweatshops/
END:VEVENT
BEGIN:VEVENT
DTSTART;TZID=UTC:20170408T180000
DTEND;TZID=UTC:20170408T220000
DTSTAMP:20260420T235312
CREATED:20181023T181818Z
LAST-MODIFIED:20181023T181818Z
UID:13945-1491674400-1491688800@runawayinequality.org
SUMMARY:Workshop with Citizen Action
DESCRIPTION:
URL:https://runawayinequality.org/event/workshop-with-citizen-action-8/
LOCATION:City College of New York\, Harlem\, NY\, United States
END:VEVENT
BEGIN:VEVENT
DTSTART;TZID=UTC:20170401T000000
DTEND;TZID=UTC:20170401T000000
DTSTAMP:20260420T235312
CREATED:20181009T140039Z
LAST-MODIFIED:20181009T140039Z
UID:13427-1491004800-1491004800@runawayinequality.org
SUMMARY:Workshop with 15 Now!
DESCRIPTION:
URL:https://runawayinequality.org/event/workshop-with-15-now/
END:VEVENT
BEGIN:VEVENT
DTSTART;TZID=UTC:20170401T000000
DTEND;TZID=UTC:20170401T000000
DTSTAMP:20260420T235312
CREATED:20181009T140038Z
LAST-MODIFIED:20181009T140038Z
UID:13426-1491004800-1491004800@runawayinequality.org
SUMMARY:Workshop with Rutgers ONE
DESCRIPTION:
URL:https://runawayinequality.org/event/workshop-with-rutgers-one/
END:VEVENT
BEGIN:VEVENT
DTSTART;TZID=UTC:20170331T000000
DTEND;TZID=UTC:20170331T000000
DTSTAMP:20260420T235312
CREATED:20180921T163054Z
LAST-MODIFIED:20180921T163054Z
UID:12756-1490918400-1490918400@runawayinequality.org
SUMMARY:? with Locals Allies (Sierra Club Host)
DESCRIPTION:
URL:https://runawayinequality.org/event/with-locals-allies-sierra-club-host/
LOCATION:Detroit MI\, Detroit\, MI\, United States
END:VEVENT
BEGIN:VEVENT
DTSTART;TZID=UTC:20170301T000000
DTEND;TZID=UTC:20170302T000000
DTSTAMP:20260420T235312
CREATED:20181009T135921Z
LAST-MODIFIED:20181009T135921Z
UID:13377-1488326400-1488412800@runawayinequality.org
SUMMARY:Train-the-Trainer
DESCRIPTION:
URL:https://runawayinequality.org/event/train-the-trainer-8/
LOCATION:Rutgers University\, New Brunswick\, NJ\, United States
END:VEVENT
BEGIN:VEVENT
DTSTART;TZID=UTC:20170301T000000
DTEND;TZID=UTC:20170301T000000
DTSTAMP:20260420T235312
CREATED:20181009T140136Z
LAST-MODIFIED:20181009T140136Z
UID:13463-1488326400-1488326400@runawayinequality.org
SUMMARY:Workshop with The Latino Institute
DESCRIPTION:
URL:https://runawayinequality.org/event/workshop-with-the-latino-institute/
END:VEVENT
BEGIN:VEVENT
DTSTART;TZID=UTC:20170301T000000
DTEND;TZID=UTC:20170301T000000
DTSTAMP:20260420T235312
CREATED:20181009T140135Z
LAST-MODIFIED:20181009T140135Z
UID:13461-1488326400-1488326400@runawayinequality.org
SUMMARY:Workshop with CWA Local 1036
DESCRIPTION:
URL:https://runawayinequality.org/event/workshop-with-cwa-local-1036-2/
END:VEVENT
BEGIN:VEVENT
DTSTART;TZID=UTC:20170301T000000
DTEND;TZID=UTC:20170301T000000
DTSTAMP:20260420T235312
CREATED:20181009T140135Z
LAST-MODIFIED:20181009T140135Z
UID:13462-1488326400-1488326400@runawayinequality.org
SUMMARY:Workshop with Coalition of Labor Union Women
DESCRIPTION:
URL:https://runawayinequality.org/event/workshop-with-coalition-of-labor-union-women/
END:VEVENT
BEGIN:VEVENT
DTSTART;TZID=UTC:20170203T000000
DTEND;TZID=UTC:20170204T000000
DTSTAMP:20260420T235312
CREATED:20181009T135920Z
LAST-MODIFIED:20181009T135920Z
UID:13376-1486080000-1486166400@runawayinequality.org
SUMMARY:Train-the-Trainer
DESCRIPTION:
URL:https://runawayinequality.org/event/train-the-trainer-7/
LOCATION:Rutgers University\, New Brunswick\, NJ\, United States
END:VEVENT
BEGIN:VEVENT
DTSTART;TZID=UTC:20170201T000000
DTEND;TZID=UTC:20170201T000000
DTSTAMP:20260420T235312
CREATED:20181009T140106Z
LAST-MODIFIED:20181009T140106Z
UID:13441-1485907200-1485907200@runawayinequality.org
SUMMARY:Workshop with Green Party
DESCRIPTION:
URL:https://runawayinequality.org/event/workshop-with-green-party/
END:VEVENT
BEGIN:VEVENT
DTSTART;TZID=UTC:20170201T000000
DTEND;TZID=UTC:20170201T000000
DTSTAMP:20260420T235312
CREATED:20181009T140056Z
LAST-MODIFIED:20181009T140056Z
UID:13440-1485907200-1485907200@runawayinequality.org
SUMMARY:Workshop with Health Professionals and Allied Employees (HPAE)
DESCRIPTION:
URL:https://runawayinequality.org/event/workshop-with-health-professionals-and-allied-employees-hpae/
END:VEVENT
BEGIN:VEVENT
DTSTART;TZID=UTC:20170101T000000
DTEND;TZID=UTC:20170101T000000
DTSTAMP:20260420T235312
CREATED:20181009T140108Z
LAST-MODIFIED:20181009T140108Z
UID:13443-1483228800-1483228800@runawayinequality.org
SUMMARY:Workshop with Anti-Poverty Network
DESCRIPTION:
URL:https://runawayinequality.org/event/workshop-with-anti-poverty-network/
END:VEVENT
BEGIN:VEVENT
DTSTART;TZID=UTC:20161111T080000
DTEND;TZID=UTC:20161111T170000
DTSTAMP:20260420T235312
CREATED:20180921T163106Z
LAST-MODIFIED:20180921T163106Z
UID:12770-1478851200-1478883600@runawayinequality.org
SUMMARY:Full day with Allies Locals 3640 - 3642
DESCRIPTION:
URL:https://runawayinequality.org/event/full-day-with-allies-locals-3640-3642/
LOCATION:Wilmington NC\, Wilmington\, NC\, United States
END:VEVENT
BEGIN:VEVENT
DTSTART;TZID=UTC:20161013T100000
DTEND;TZID=UTC:20161013T130000
DTSTAMP:20260420T235312
CREATED:20181023T181815Z
LAST-MODIFIED:20181023T181815Z
UID:13936-1476352800-1476363600@runawayinequality.org
SUMMARY:Workshop with Statewide Senior Action
DESCRIPTION:
URL:https://runawayinequality.org/event/workshop-with-statewide-senior-action-2/
LOCATION:Guiderland Public Library\, 2888 Western Ave.\, Guilderland\, NY\, United States
END:VEVENT
BEGIN:VEVENT
DTSTART;TZID=UTC:20160929T000000
DTEND;TZID=UTC:20160929T000000
DTSTAMP:20260420T235312
CREATED:20181023T221957Z
LAST-MODIFIED:20181023T221957Z
UID:14037-1475107200-1475107200@runawayinequality.org
SUMMARY:with USW District 4
DESCRIPTION:
URL:https://runawayinequality.org/event/with-usw-district-4-4/
END:VEVENT
BEGIN:VEVENT
DTSTART;TZID=UTC:20160929T000000
DTEND;TZID=UTC:20160929T000000
DTSTAMP:20260420T235312
CREATED:20181023T181740Z
LAST-MODIFIED:20181023T181740Z
UID:13858-1475107200-1475107200@runawayinequality.org
SUMMARY:with USW District 4
DESCRIPTION:
URL:https://runawayinequality.org/event/with-usw-district-4-3/
END:VEVENT
BEGIN:VEVENT
DTSTART;TZID=UTC:20160927T000000
DTEND;TZID=UTC:20160927T000000
DTSTAMP:20260420T235312
CREATED:20181023T221957Z
LAST-MODIFIED:20181023T221957Z
UID:14036-1474934400-1474934400@runawayinequality.org
SUMMARY:with CWA Detroit conference
DESCRIPTION:
URL:https://runawayinequality.org/event/with-cwa-detroit-conference-4/
LOCATION:Detroit MI\, Detroit\, MI\, United States
END:VEVENT
BEGIN:VEVENT
DTSTART;TZID=UTC:20160927T000000
DTEND;TZID=UTC:20160927T000000
DTSTAMP:20260420T235312
CREATED:20181023T181740Z
LAST-MODIFIED:20181023T181740Z
UID:13857-1474934400-1474934400@runawayinequality.org
SUMMARY:with CWA Detroit conference
DESCRIPTION:
URL:https://runawayinequality.org/event/with-cwa-detroit-conference-3/
LOCATION:Detroit MI\, Detroit\, MI\, United States
END:VEVENT
BEGIN:VEVENT
DTSTART;TZID=UTC:20160914T180000
DTEND;TZID=UTC:20160914T210000
DTSTAMP:20260420T235312
CREATED:20181023T181814Z
LAST-MODIFIED:20181023T181814Z
UID:13935-1473876000-1473886800@runawayinequality.org
SUMMARY:Workshop with Hudson Valley Bernie Group
DESCRIPTION:
URL:https://runawayinequality.org/event/workshop-with-hudson-valley-bernie-group/
LOCATION:Kingston NY\, Kingston\, NY\, United States
END:VEVENT
BEGIN:VEVENT
DTSTART;TZID=UTC:20160912T000000
DTEND;TZID=UTC:20160912T000000
DTSTAMP:20260420T235312
CREATED:20181023T221955Z
LAST-MODIFIED:20181023T221955Z
UID:14035-1473638400-1473638400@runawayinequality.org
SUMMARY:with USW H/S conference
DESCRIPTION:
URL:https://runawayinequality.org/event/with-usw-h-s-conference-4/
END:VEVENT
BEGIN:VEVENT
DTSTART;TZID=UTC:20160912T000000
DTEND;TZID=UTC:20160912T000000
DTSTAMP:20260420T235312
CREATED:20181023T181738Z
LAST-MODIFIED:20181023T181738Z
UID:13856-1473638400-1473638400@runawayinequality.org
SUMMARY:with USW H/S conference
DESCRIPTION:
URL:https://runawayinequality.org/event/with-usw-h-s-conference-3/
END:VEVENT
BEGIN:VEVENT
DTSTART;TZID=UTC:20160901T000000
DTEND;TZID=UTC:20160901T000000
DTSTAMP:20260420T235312
CREATED:20181023T221955Z
LAST-MODIFIED:20181023T221955Z
UID:14034-1472688000-1472688000@runawayinequality.org
SUMMARY:with NJ Communities United/Hedge Clippers
DESCRIPTION:
URL:https://runawayinequality.org/event/with-nj-communities-united-hedge-clippers-8/
END:VEVENT
BEGIN:VEVENT
DTSTART;TZID=UTC:20160901T000000
DTEND;TZID=UTC:20160901T000000
DTSTAMP:20260420T235312
CREATED:20181023T181738Z
LAST-MODIFIED:20181023T181738Z
UID:13855-1472688000-1472688000@runawayinequality.org
SUMMARY:with NJ Communities United/Hedge Clippers
DESCRIPTION:
URL:https://runawayinequality.org/event/with-nj-communities-united-hedge-clippers-6/
END:VEVENT
BEGIN:VEVENT
DTSTART;TZID=UTC:20160820T000000
DTEND;TZID=UTC:20160820T000000
DTSTAMP:20260420T235312
CREATED:20181023T221955Z
LAST-MODIFIED:20181023T221955Z
UID:14033-1471651200-1471651200@runawayinequality.org
SUMMARY:with Peoples Action
DESCRIPTION:
URL:https://runawayinequality.org/event/with-peoples-action-8/
END:VEVENT
BEGIN:VEVENT
DTSTART;TZID=UTC:20160820T000000
DTEND;TZID=UTC:20160820T000000
DTSTAMP:20260420T235312
CREATED:20181023T181737Z
LAST-MODIFIED:20181023T181737Z
UID:13854-1471651200-1471651200@runawayinequality.org
SUMMARY:with Peoples Action
DESCRIPTION:
URL:https://runawayinequality.org/event/with-peoples-action-6/
END:VEVENT
BEGIN:VEVENT
DTSTART;TZID=UTC:20160812T100000
DTEND;TZID=UTC:20160812T150000
DTSTAMP:20260420T235312
CREATED:20181023T181813Z
LAST-MODIFIED:20181023T181813Z
UID:13934-1470996000-1471014000@runawayinequality.org
SUMMARY:Full-day workshop with Rising Against Hatred and Greed
DESCRIPTION:
URL:https://runawayinequality.org/event/full-day-workshop-with-rising-against-hatred-and-greed-2/
LOCATION:SEIU office in Buffalo\, Buffalo\, NY\, United States
END:VEVENT
BEGIN:VEVENT
DTSTART;TZID=UTC:20160803T180000
DTEND;TZID=UTC:20160803T210000
DTSTAMP:20260420T235312
CREATED:20181023T181813Z
LAST-MODIFIED:20181023T181813Z
UID:13933-1470247200-1470258000@runawayinequality.org
SUMMARY:Workshop with RAP
DESCRIPTION:
URL:https://runawayinequality.org/event/workshop-with-rap-4/
LOCATION:NYSUT 201 Stockade Drive Kingston\, Kingston\, NY\, United States
END:VEVENT
BEGIN:VEVENT
DTSTART;TZID=UTC:20160802T080000
DTEND;TZID=UTC:20160802T170000
DTSTAMP:20260420T235312
CREATED:20180921T163120Z
LAST-MODIFIED:20180921T163120Z
UID:12794-1470124800-1470157200@runawayinequality.org
SUMMARY:Full day with CWA Locals
DESCRIPTION:
URL:https://runawayinequality.org/event/full-day-with-cwa-locals-4/
LOCATION:Kansas City MO\, Kansas City\, MO\, United States
END:VEVENT
END:VCALENDAR