BEGIN:VCALENDAR
VERSION:2.0
PRODID:-//Reversing Runaway Inequality - ECPv6.15.15//NONSGML v1.0//EN
CALSCALE:GREGORIAN
METHOD:PUBLISH
X-WR-CALNAME:Reversing Runaway Inequality
X-ORIGINAL-URL:https://runawayinequality.org
X-WR-CALDESC:Events for Reversing Runaway Inequality
REFRESH-INTERVAL;VALUE=DURATION:PT1H
X-Robots-Tag:noindex
X-PUBLISHED-TTL:PT1H
BEGIN:VTIMEZONE
TZID:UTC
BEGIN:STANDARD
TZOFFSETFROM:+0000
TZOFFSETTO:+0000
TZNAME:UTC
DTSTART:20150101T000000
END:STANDARD
END:VTIMEZONE
BEGIN:VEVENT
DTSTART;TZID=UTC:20160630T080000
DTEND;TZID=UTC:20160630T170000
DTSTAMP:20260421T070330
CREATED:20180921T163117Z
LAST-MODIFIED:20180921T163117Z
UID:12791-1467273600-1467306000@runawayinequality.org
SUMMARY:Full day with CWA Locals 6150 - 6201
DESCRIPTION:
URL:https://runawayinequality.org/event/full-day-with-cwa-locals-6150-6201/
LOCATION:Ft Worth TX\, Ft Worth\, TX\, United States
END:VEVENT
BEGIN:VEVENT
DTSTART;TZID=UTC:20160627T000000
DTEND;TZID=UTC:20160627T000000
DTSTAMP:20260421T070330
CREATED:20181023T221951Z
LAST-MODIFIED:20181023T221951Z
UID:14032-1466985600-1466985600@runawayinequality.org
SUMMARY:with ACTWU
DESCRIPTION:
URL:https://runawayinequality.org/event/with-actwu-4/
LOCATION:Washington DC\, Washington\, DC\, United States
END:VEVENT
BEGIN:VEVENT
DTSTART;TZID=UTC:20160627T000000
DTEND;TZID=UTC:20160627T000000
DTSTAMP:20260421T070330
CREATED:20181023T181733Z
LAST-MODIFIED:20181023T181733Z
UID:13844-1466985600-1466985600@runawayinequality.org
SUMMARY:with ACTWU
DESCRIPTION:
URL:https://runawayinequality.org/event/with-actwu-3/
LOCATION:Washington DC\, Washington\, DC\, United States
END:VEVENT
BEGIN:VEVENT
DTSTART;TZID=UTC:20160623T080000
DTEND;TZID=UTC:20160623T170000
DTSTAMP:20260421T070330
CREATED:20180921T163106Z
LAST-MODIFIED:20180921T163106Z
UID:12769-1466668800-1466701200@runawayinequality.org
SUMMARY:Full day with Allies Locals 6132
DESCRIPTION:
URL:https://runawayinequality.org/event/full-day-with-allies-locals-6132/
LOCATION:Austin TX\, Austin\, TX\, United States
END:VEVENT
BEGIN:VEVENT
DTSTART;TZID=UTC:20160622T080000
DTEND;TZID=UTC:20160622T170000
DTSTAMP:20260421T070330
CREATED:20180921T163117Z
LAST-MODIFIED:20180921T163117Z
UID:12790-1466582400-1466614800@runawayinequality.org
SUMMARY:Full day with CWA Locals
DESCRIPTION:
URL:https://runawayinequality.org/event/full-day-with-cwa-locals-2/
LOCATION:Minneapolis MN\, Minneapolis\, MN\, United States
END:VEVENT
BEGIN:VEVENT
DTSTART;TZID=UTC:20160621T080000
DTEND;TZID=UTC:20160621T170000
DTSTAMP:20260421T070330
CREATED:20180921T163116Z
LAST-MODIFIED:20180921T163116Z
UID:12789-1466496000-1466528400@runawayinequality.org
SUMMARY:Full day with CWA Locals 7200 - 7201 - 7304 - 1140 - 7250 - 7304
DESCRIPTION:
URL:https://runawayinequality.org/event/full-day-with-cwa-locals-7200-7201-7304-1140-7250-7304/
LOCATION:Minneapolis MN\, Minneapolis\, MN\, United States
END:VEVENT
BEGIN:VEVENT
DTSTART;TZID=UTC:20160618T000000
DTEND;TZID=UTC:20160618T000000
DTSTAMP:20260421T070330
CREATED:20181023T221949Z
LAST-MODIFIED:20181023T221949Z
UID:14031-1466208000-1466208000@runawayinequality.org
SUMMARY:with People's Assembly
DESCRIPTION:
URL:https://runawayinequality.org/event/with-peoples-assembly-4/
LOCATION:NY
END:VEVENT
BEGIN:VEVENT
DTSTART;TZID=UTC:20160618T000000
DTEND;TZID=UTC:20160618T000000
DTSTAMP:20260421T070330
CREATED:20181023T181731Z
LAST-MODIFIED:20181023T181731Z
UID:13840-1466208000-1466208000@runawayinequality.org
SUMMARY:with People's Assembly
DESCRIPTION:
URL:https://runawayinequality.org/event/with-peoples-assembly-3/
LOCATION:NY
END:VEVENT
BEGIN:VEVENT
DTSTART;TZID=UTC:20160616T000000
DTEND;TZID=UTC:20160616T000000
DTSTAMP:20260421T070330
CREATED:20181023T221949Z
LAST-MODIFIED:20181023T221949Z
UID:14030-1466035200-1466035200@runawayinequality.org
SUMMARY:with CWA
DESCRIPTION:
URL:https://runawayinequality.org/event/with-cwa-20/
LOCATION:NY
END:VEVENT
BEGIN:VEVENT
DTSTART;TZID=UTC:20160616T000000
DTEND;TZID=UTC:20160616T000000
DTSTAMP:20260421T070330
CREATED:20181023T181731Z
LAST-MODIFIED:20181023T181731Z
UID:13839-1466035200-1466035200@runawayinequality.org
SUMMARY:with CWA
DESCRIPTION:
URL:https://runawayinequality.org/event/with-cwa-15/
LOCATION:NY
END:VEVENT
BEGIN:VEVENT
DTSTART;TZID=UTC:20160614T080000
DTEND;TZID=UTC:20160614T170000
DTSTAMP:20260421T070330
CREATED:20180921T163115Z
LAST-MODIFIED:20180921T163115Z
UID:12788-1465891200-1465923600@runawayinequality.org
SUMMARY:Full day with CWA Locals 1182
DESCRIPTION:
URL:https://runawayinequality.org/event/full-day-with-cwa-locals-1182/
LOCATION:NYC NY\, NYC\, NY\, United States
END:VEVENT
BEGIN:VEVENT
DTSTART;TZID=UTC:20160614T000000
DTEND;TZID=UTC:20160614T000000
DTSTAMP:20260421T070330
CREATED:20181023T221948Z
LAST-MODIFIED:20181023T221948Z
UID:14029-1465862400-1465862400@runawayinequality.org
SUMMARY:with CWA DC Political Action
DESCRIPTION:
URL:https://runawayinequality.org/event/with-cwa-dc-political-action-4/
LOCATION:Washington DC\, Washington\, DC\, United States
END:VEVENT
BEGIN:VEVENT
DTSTART;TZID=UTC:20160614T000000
DTEND;TZID=UTC:20160614T000000
DTSTAMP:20260421T070330
CREATED:20181023T181731Z
LAST-MODIFIED:20181023T181731Z
UID:13838-1465862400-1465862400@runawayinequality.org
SUMMARY:with CWA DC Political Action
DESCRIPTION:
URL:https://runawayinequality.org/event/with-cwa-dc-political-action-3/
LOCATION:Washington DC\, Washington\, DC\, United States
END:VEVENT
BEGIN:VEVENT
DTSTART;TZID=UTC:20160610T000000
DTEND;TZID=UTC:20160610T000000
DTSTAMP:20260421T070330
CREATED:20181023T221947Z
LAST-MODIFIED:20181023T221947Z
UID:14028-1465516800-1465516800@runawayinequality.org
SUMMARY:with USW Anaheim Organizing Conference
DESCRIPTION:
URL:https://runawayinequality.org/event/with-usw-anaheim-organizing-conference-4/
LOCATION:NY
END:VEVENT
BEGIN:VEVENT
DTSTART;TZID=UTC:20160610T000000
DTEND;TZID=UTC:20160610T000000
DTSTAMP:20260421T070330
CREATED:20181023T181729Z
LAST-MODIFIED:20181023T181729Z
UID:13836-1465516800-1465516800@runawayinequality.org
SUMMARY:with USW Anaheim Organizing Conference
DESCRIPTION:
URL:https://runawayinequality.org/event/with-usw-anaheim-organizing-conference-3/
LOCATION:NY
END:VEVENT
BEGIN:VEVENT
DTSTART;TZID=UTC:20160609T190000
DTEND;TZID=UTC:20160609T200000
DTSTAMP:20260421T070330
CREATED:20180921T163059Z
LAST-MODIFIED:20180921T163059Z
UID:12759-1465498800-1465502400@runawayinequality.org
SUMMARY:1-hour with Locals 6143
DESCRIPTION:
URL:https://runawayinequality.org/event/1-hour-with-locals-6143/
LOCATION:San Antonio TX\, San Antonio\, TX\, 78205\, United States
END:VEVENT
BEGIN:VEVENT
DTSTART;TZID=UTC:20160608T180000
DTEND;TZID=UTC:20160608T200000
DTSTAMP:20260421T070330
CREATED:20181023T181811Z
LAST-MODIFIED:20181023T181811Z
UID:13929-1465408800-1465416000@runawayinequality.org
SUMMARY:Workshop with Citizen Action
DESCRIPTION:
URL:https://runawayinequality.org/event/workshop-with-citizen-action-6/
LOCATION:Catholic Charities 232 Main St.\, Binghamton\, NY\, United States
END:VEVENT
BEGIN:VEVENT
DTSTART;TZID=UTC:20160607T080000
DTEND;TZID=UTC:20160607T170000
DTSTAMP:20260421T070330
CREATED:20180921T163114Z
LAST-MODIFIED:20180921T163114Z
UID:12787-1465286400-1465318800@runawayinequality.org
SUMMARY:Full day with CWA Locals 6215
DESCRIPTION:
URL:https://runawayinequality.org/event/full-day-with-cwa-locals-6215/
LOCATION:Dallas TX\, Dallas\, TX\, United States
END:VEVENT
BEGIN:VEVENT
DTSTART;TZID=UTC:20160606T000000
DTEND;TZID=UTC:20160606T000000
DTSTAMP:20260421T070330
CREATED:20181023T221946Z
LAST-MODIFIED:20181023T221946Z
UID:14027-1465171200-1465171200@runawayinequality.org
SUMMARY:with BGA
DESCRIPTION:
URL:https://runawayinequality.org/event/with-bga-4/
LOCATION:NY
END:VEVENT
BEGIN:VEVENT
DTSTART;TZID=UTC:20160606T000000
DTEND;TZID=UTC:20160606T000000
DTSTAMP:20260421T070330
CREATED:20181023T181728Z
LAST-MODIFIED:20181023T181728Z
UID:13833-1465171200-1465171200@runawayinequality.org
SUMMARY:with BGA
DESCRIPTION:
URL:https://runawayinequality.org/event/with-bga-3/
LOCATION:NY
END:VEVENT
BEGIN:VEVENT
DTSTART;TZID=UTC:20160602T080000
DTEND;TZID=UTC:20160602T170000
DTSTAMP:20260421T070330
CREATED:20180921T163114Z
LAST-MODIFIED:20180921T163114Z
UID:12786-1464854400-1464886800@runawayinequality.org
SUMMARY:Full day with CWA Locals 4034
DESCRIPTION:
URL:https://runawayinequality.org/event/full-day-with-cwa-locals-4034/
LOCATION:Lansing MI\, Lansing\, MI\, United States
END:VEVENT
BEGIN:VEVENT
DTSTART;TZID=UTC:20160523T000000
DTEND;TZID=UTC:20160523T000000
DTSTAMP:20260421T070330
CREATED:20181023T221944Z
LAST-MODIFIED:20181023T221944Z
UID:14026-1463961600-1463961600@runawayinequality.org
SUMMARY:with LI Jobs with Justice
DESCRIPTION:
URL:https://runawayinequality.org/event/with-li-jobs-with-justice-4/
LOCATION:NY
END:VEVENT
BEGIN:VEVENT
DTSTART;TZID=UTC:20160523T000000
DTEND;TZID=UTC:20160523T000000
DTSTAMP:20260421T070330
CREATED:20181023T181726Z
LAST-MODIFIED:20181023T181726Z
UID:13831-1463961600-1463961600@runawayinequality.org
SUMMARY:with LI Jobs with Justice
DESCRIPTION:
URL:https://runawayinequality.org/event/with-li-jobs-with-justice-3/
LOCATION:NY
END:VEVENT
BEGIN:VEVENT
DTSTART;TZID=UTC:20160522T000000
DTEND;TZID=UTC:20160522T000000
DTSTAMP:20260421T070330
CREATED:20181023T221944Z
LAST-MODIFIED:20181023T221944Z
UID:14025-1463875200-1463875200@runawayinequality.org
SUMMARY:with Left Forum
DESCRIPTION:
URL:https://runawayinequality.org/event/with-left-forum-4/
LOCATION:NY
END:VEVENT
BEGIN:VEVENT
DTSTART;TZID=UTC:20160522T000000
DTEND;TZID=UTC:20160522T000000
DTSTAMP:20260421T070330
CREATED:20181023T181726Z
LAST-MODIFIED:20181023T181726Z
UID:13830-1463875200-1463875200@runawayinequality.org
SUMMARY:with Left Forum
DESCRIPTION:
URL:https://runawayinequality.org/event/with-left-forum-3/
LOCATION:NY
END:VEVENT
BEGIN:VEVENT
DTSTART;TZID=UTC:20160520T190000
DTEND;TZID=UTC:20160520T210000
DTSTAMP:20260421T070330
CREATED:20180921T163104Z
LAST-MODIFIED:20180921T163104Z
UID:12767-1463770800-1463778000@runawayinequality.org
SUMMARY:2-hour with CWA Locals 1122
DESCRIPTION:
URL:https://runawayinequality.org/event/2-hour-with-cwa-locals-1122-3/
LOCATION:Buffalo NY\, Buffalo\, NY\, United States
END:VEVENT
BEGIN:VEVENT
DTSTART;TZID=UTC:20160520T000000
DTEND;TZID=UTC:20160520T000000
DTSTAMP:20260421T070330
CREATED:20181023T221944Z
LAST-MODIFIED:20181023T221944Z
UID:14024-1463702400-1463702400@runawayinequality.org
SUMMARY:with Washinton State Afl-CIO
DESCRIPTION:
URL:https://runawayinequality.org/event/with-washinton-state-afl-cio-4/
LOCATION:NY
END:VEVENT
BEGIN:VEVENT
DTSTART;TZID=UTC:20160520T000000
DTEND;TZID=UTC:20160520T000000
DTSTAMP:20260421T070330
CREATED:20181023T181726Z
LAST-MODIFIED:20181023T181726Z
UID:13829-1463702400-1463702400@runawayinequality.org
SUMMARY:with Washinton State Afl-CIO
DESCRIPTION:
URL:https://runawayinequality.org/event/with-washinton-state-afl-cio-3/
LOCATION:NY
END:VEVENT
BEGIN:VEVENT
DTSTART;TZID=UTC:20160509T190000
DTEND;TZID=UTC:20160509T210000
DTSTAMP:20260421T070330
CREATED:20180921T163103Z
LAST-MODIFIED:20180921T163103Z
UID:12766-1462820400-1462827600@runawayinequality.org
SUMMARY:2-hour with CWA Locals 1122
DESCRIPTION:
URL:https://runawayinequality.org/event/2-hour-with-cwa-locals-1122-2/
LOCATION:Buffalo NY\, Buffalo\, NY\, United States
END:VEVENT
BEGIN:VEVENT
DTSTART;TZID=UTC:20160507T080000
DTEND;TZID=UTC:20160507T170000
DTSTAMP:20260421T070330
CREATED:20180921T163114Z
LAST-MODIFIED:20180921T163114Z
UID:12785-1462608000-1462640400@runawayinequality.org
SUMMARY:Full day with CWA Locals 1102
DESCRIPTION:
URL:https://runawayinequality.org/event/full-day-with-cwa-locals-1102-2/
LOCATION:Staten Island NY\, Staten Island\, NY\, United States
END:VEVENT
END:VCALENDAR