BEGIN:VCALENDAR
VERSION:2.0
PRODID:-//Reversing Runaway Inequality - ECPv6.15.15//NONSGML v1.0//EN
CALSCALE:GREGORIAN
METHOD:PUBLISH
X-ORIGINAL-URL:https://runawayinequality.org
X-WR-CALDESC:Events for Reversing Runaway Inequality
REFRESH-INTERVAL;VALUE=DURATION:PT1H
X-Robots-Tag:noindex
X-PUBLISHED-TTL:PT1H
BEGIN:VTIMEZONE
TZID:UTC
BEGIN:STANDARD
TZOFFSETFROM:+0000
TZOFFSETTO:+0000
TZNAME:UTC
DTSTART:20150101T000000
END:STANDARD
END:VTIMEZONE
BEGIN:VEVENT
DTSTART;TZID=UTC:20160602T080000
DTEND;TZID=UTC:20160602T170000
DTSTAMP:20260421T101417
CREATED:20180921T163114Z
LAST-MODIFIED:20180921T163114Z
UID:12786-1464854400-1464886800@runawayinequality.org
SUMMARY:Full day with CWA Locals 4034
DESCRIPTION:
URL:https://runawayinequality.org/event/full-day-with-cwa-locals-4034/
LOCATION:Lansing MI\, Lansing\, MI\, United States
END:VEVENT
BEGIN:VEVENT
DTSTART;TZID=UTC:20160523T000000
DTEND;TZID=UTC:20160523T000000
DTSTAMP:20260421T101417
CREATED:20181023T221944Z
LAST-MODIFIED:20181023T221944Z
UID:14026-1463961600-1463961600@runawayinequality.org
SUMMARY:with LI Jobs with Justice
DESCRIPTION:
URL:https://runawayinequality.org/event/with-li-jobs-with-justice-4/
LOCATION:IN
END:VEVENT
BEGIN:VEVENT
DTSTART;TZID=UTC:20160523T000000
DTEND;TZID=UTC:20160523T000000
DTSTAMP:20260421T101417
CREATED:20181023T181726Z
LAST-MODIFIED:20181023T181726Z
UID:13831-1463961600-1463961600@runawayinequality.org
SUMMARY:with LI Jobs with Justice
DESCRIPTION:
URL:https://runawayinequality.org/event/with-li-jobs-with-justice-3/
LOCATION:IN
END:VEVENT
BEGIN:VEVENT
DTSTART;TZID=UTC:20160522T000000
DTEND;TZID=UTC:20160522T000000
DTSTAMP:20260421T101417
CREATED:20181023T221944Z
LAST-MODIFIED:20181023T221944Z
UID:14025-1463875200-1463875200@runawayinequality.org
SUMMARY:with Left Forum
DESCRIPTION:
URL:https://runawayinequality.org/event/with-left-forum-4/
LOCATION:IN
END:VEVENT
BEGIN:VEVENT
DTSTART;TZID=UTC:20160522T000000
DTEND;TZID=UTC:20160522T000000
DTSTAMP:20260421T101417
CREATED:20181023T181726Z
LAST-MODIFIED:20181023T181726Z
UID:13830-1463875200-1463875200@runawayinequality.org
SUMMARY:with Left Forum
DESCRIPTION:
URL:https://runawayinequality.org/event/with-left-forum-3/
LOCATION:IN
END:VEVENT
BEGIN:VEVENT
DTSTART;TZID=UTC:20160520T190000
DTEND;TZID=UTC:20160520T210000
DTSTAMP:20260421T101417
CREATED:20180921T163104Z
LAST-MODIFIED:20180921T163104Z
UID:12767-1463770800-1463778000@runawayinequality.org
SUMMARY:2-hour with CWA Locals 1122
DESCRIPTION:
URL:https://runawayinequality.org/event/2-hour-with-cwa-locals-1122-3/
LOCATION:Buffalo NY\, Buffalo\, NY\, United States
END:VEVENT
BEGIN:VEVENT
DTSTART;TZID=UTC:20160520T000000
DTEND;TZID=UTC:20160520T000000
DTSTAMP:20260421T101417
CREATED:20181023T221944Z
LAST-MODIFIED:20181023T221944Z
UID:14024-1463702400-1463702400@runawayinequality.org
SUMMARY:with Washinton State Afl-CIO
DESCRIPTION:
URL:https://runawayinequality.org/event/with-washinton-state-afl-cio-4/
LOCATION:IN
END:VEVENT
BEGIN:VEVENT
DTSTART;TZID=UTC:20160520T000000
DTEND;TZID=UTC:20160520T000000
DTSTAMP:20260421T101417
CREATED:20181023T181726Z
LAST-MODIFIED:20181023T181726Z
UID:13829-1463702400-1463702400@runawayinequality.org
SUMMARY:with Washinton State Afl-CIO
DESCRIPTION:
URL:https://runawayinequality.org/event/with-washinton-state-afl-cio-3/
LOCATION:IN
END:VEVENT
BEGIN:VEVENT
DTSTART;TZID=UTC:20160509T190000
DTEND;TZID=UTC:20160509T210000
DTSTAMP:20260421T101417
CREATED:20180921T163103Z
LAST-MODIFIED:20180921T163103Z
UID:12766-1462820400-1462827600@runawayinequality.org
SUMMARY:2-hour with CWA Locals 1122
DESCRIPTION:
URL:https://runawayinequality.org/event/2-hour-with-cwa-locals-1122-2/
LOCATION:Buffalo NY\, Buffalo\, NY\, United States
END:VEVENT
BEGIN:VEVENT
DTSTART;TZID=UTC:20160507T080000
DTEND;TZID=UTC:20160507T170000
DTSTAMP:20260421T101417
CREATED:20180921T163114Z
LAST-MODIFIED:20180921T163114Z
UID:12785-1462608000-1462640400@runawayinequality.org
SUMMARY:Full day with CWA Locals 1102
DESCRIPTION:
URL:https://runawayinequality.org/event/full-day-with-cwa-locals-1102-2/
LOCATION:Staten Island NY\, Staten Island\, NY\, United States
END:VEVENT
BEGIN:VEVENT
DTSTART;TZID=UTC:20160501T000000
DTEND;TZID=UTC:20160503T000000
DTSTAMP:20260421T101417
CREATED:20181009T135837Z
LAST-MODIFIED:20181009T135837Z
UID:13351-1462060800-1462233600@runawayinequality.org
SUMMARY:Train-the-Trainer with Citizen Action + NYCET
DESCRIPTION:
URL:https://runawayinequality.org/event/train-the-trainer-with-citizen-action-nycet/
LOCATION:Century House\, Latham\, Albany\, NY\, United States
END:VEVENT
BEGIN:VEVENT
DTSTART;TZID=UTC:20160429T000000
DTEND;TZID=UTC:20160429T000000
DTSTAMP:20260421T101417
CREATED:20181023T221942Z
LAST-MODIFIED:20181023T221942Z
UID:14023-1461888000-1461888000@runawayinequality.org
SUMMARY:with Citizen Action Train the Trainer
DESCRIPTION:
URL:https://runawayinequality.org/event/with-citizen-action-train-the-trainer-4/
LOCATION:IN
END:VEVENT
BEGIN:VEVENT
DTSTART;TZID=UTC:20160429T000000
DTEND;TZID=UTC:20160429T000000
DTSTAMP:20260421T101417
CREATED:20181023T181723Z
LAST-MODIFIED:20181023T181723Z
UID:13824-1461888000-1461888000@runawayinequality.org
SUMMARY:with Citizen Action Train the Trainer
DESCRIPTION:
URL:https://runawayinequality.org/event/with-citizen-action-train-the-trainer-3/
LOCATION:IN
END:VEVENT
BEGIN:VEVENT
DTSTART;TZID=UTC:20160428T190000
DTEND;TZID=UTC:20160428T210000
DTSTAMP:20260421T101417
CREATED:20180921T163102Z
LAST-MODIFIED:20180921T163102Z
UID:12765-1461870000-1461877200@runawayinequality.org
SUMMARY:2-hour with CWA Locals 1122
DESCRIPTION:
URL:https://runawayinequality.org/event/2-hour-with-cwa-locals-1122/
LOCATION:Buffalo NY\, Buffalo\, NY\, United States
END:VEVENT
BEGIN:VEVENT
DTSTART;TZID=UTC:20160428T100000
DTEND;TZID=UTC:20160428T110000
DTSTAMP:20260421T101417
CREATED:20181023T181810Z
LAST-MODIFIED:20181023T181810Z
UID:13928-1461837600-1461841200@runawayinequality.org
SUMMARY:Workshop with RAP
DESCRIPTION:
URL:https://runawayinequality.org/event/workshop-with-rap-3/
LOCATION:1199\, 155 Washington Avenue\, Albany\, NY\, United States
END:VEVENT
BEGIN:VEVENT
DTSTART;TZID=UTC:20160426T180000
DTEND;TZID=UTC:20160426T210000
DTSTAMP:20260421T101417
CREATED:20181023T181810Z
LAST-MODIFIED:20181023T181810Z
UID:13927-1461693600-1461704400@runawayinequality.org
SUMMARY:Workshop with LI Progressive Network
DESCRIPTION:
URL:https://runawayinequality.org/event/workshop-with-li-progressive-network-2/
LOCATION:Yes We Can Community Center\, 141 Garden St.\, Westbury\, NY\, United States
END:VEVENT
BEGIN:VEVENT
DTSTART;TZID=UTC:20160424T000000
DTEND;TZID=UTC:20160424T000000
DTSTAMP:20260421T101417
CREATED:20181023T221941Z
LAST-MODIFIED:20181023T221941Z
UID:14022-1461456000-1461456000@runawayinequality.org
SUMMARY:with CWA
DESCRIPTION:
URL:https://runawayinequality.org/event/with-cwa-19/
LOCATION:IN
END:VEVENT
BEGIN:VEVENT
DTSTART;TZID=UTC:20160424T000000
DTEND;TZID=UTC:20160424T000000
DTSTAMP:20260421T101417
CREATED:20181023T181723Z
LAST-MODIFIED:20181023T181723Z
UID:13822-1461456000-1461456000@runawayinequality.org
SUMMARY:with CWA
DESCRIPTION:
URL:https://runawayinequality.org/event/with-cwa-14/
LOCATION:IN
END:VEVENT
BEGIN:VEVENT
DTSTART;TZID=UTC:20160420T080000
DTEND;TZID=UTC:20160420T170000
DTSTAMP:20260421T101417
CREATED:20180921T163114Z
LAST-MODIFIED:20180921T163114Z
UID:12784-1461139200-1461171600@runawayinequality.org
SUMMARY:Full day with CWA Locals 1122
DESCRIPTION:
URL:https://runawayinequality.org/event/full-day-with-cwa-locals-1122/
LOCATION:Buffalo NY\, Buffalo\, NY\, United States
END:VEVENT
BEGIN:VEVENT
DTSTART;TZID=UTC:20160408T000000
DTEND;TZID=UTC:20160409T000000
DTSTAMP:20260421T101417
CREATED:20181009T135826Z
LAST-MODIFIED:20181009T135826Z
UID:13346-1460073600-1460160000@runawayinequality.org
SUMMARY:Train-the-Trainer
DESCRIPTION:
URL:https://runawayinequality.org/event/train-the-trainer-2/
LOCATION:Austin TX\, Austin\, TX\, United States
END:VEVENT
BEGIN:VEVENT
DTSTART;TZID=UTC:20160408T000000
DTEND;TZID=UTC:20160408T000000
DTSTAMP:20260421T101417
CREATED:20181023T221939Z
LAST-MODIFIED:20181023T221939Z
UID:14021-1460073600-1460073600@runawayinequality.org
SUMMARY:with CWA Train the Trainer
DESCRIPTION:
URL:https://runawayinequality.org/event/with-cwa-train-the-trainer-4/
LOCATION:IN
END:VEVENT
BEGIN:VEVENT
DTSTART;TZID=UTC:20160408T000000
DTEND;TZID=UTC:20160408T000000
DTSTAMP:20260421T101417
CREATED:20181023T181721Z
LAST-MODIFIED:20181023T181721Z
UID:13819-1460073600-1460073600@runawayinequality.org
SUMMARY:with CWA Train the Trainer
DESCRIPTION:
URL:https://runawayinequality.org/event/with-cwa-train-the-trainer-3/
LOCATION:IN
END:VEVENT
BEGIN:VEVENT
DTSTART;TZID=UTC:20160402T080000
DTEND;TZID=UTC:20160402T170000
DTSTAMP:20260421T101417
CREATED:20180921T163112Z
LAST-MODIFIED:20180921T163112Z
UID:12783-1459584000-1459616400@runawayinequality.org
SUMMARY:Full day with CWA Locals 1102
DESCRIPTION:
URL:https://runawayinequality.org/event/full-day-with-cwa-locals-1102/
LOCATION:Staten Island NY\, Staten Island\, NY\, United States
END:VEVENT
BEGIN:VEVENT
DTSTART;TZID=UTC:20160326T000000
DTEND;TZID=UTC:20160326T000000
DTSTAMP:20260421T101417
CREATED:20181023T221939Z
LAST-MODIFIED:20181023T221939Z
UID:14020-1458950400-1458950400@runawayinequality.org
SUMMARY:with NJ Communities United/Hedge Clippers
DESCRIPTION:
URL:https://runawayinequality.org/event/with-nj-communities-united-hedge-clippers-7/
LOCATION:IN
END:VEVENT
BEGIN:VEVENT
DTSTART;TZID=UTC:20160326T000000
DTEND;TZID=UTC:20160326T000000
DTSTAMP:20260421T101417
CREATED:20181023T181720Z
LAST-MODIFIED:20181023T181720Z
UID:13817-1458950400-1458950400@runawayinequality.org
SUMMARY:with NJ Communities United/Hedge Clippers
DESCRIPTION:
URL:https://runawayinequality.org/event/with-nj-communities-united-hedge-clippers-5/
LOCATION:IN
END:VEVENT
BEGIN:VEVENT
DTSTART;TZID=UTC:20160326T000000
DTEND;TZID=UTC:20160326T000000
DTSTAMP:20260421T101417
CREATED:20180921T163053Z
LAST-MODIFIED:20180921T163053Z
UID:12754-1458950400-1458950400@runawayinequality.org
SUMMARY:? with Locals 4050 - 4123 - 4126 - 4009 - 4008
DESCRIPTION:
URL:https://runawayinequality.org/event/with-locals-4050-4123-4126-4009-4008/
LOCATION:Southfield MI\, Southfield\, MI\, United States
END:VEVENT
BEGIN:VEVENT
DTSTART;TZID=UTC:20160324T190000
DTEND;TZID=UTC:20160324T200000
DTSTAMP:20260421T101417
CREATED:20180921T163101Z
LAST-MODIFIED:20180921T163101Z
UID:12763-1458846000-1458849600@runawayinequality.org
SUMMARY:1-hour with CWA Locals 4032 - 4034 - 4035 - 4008 - 4103 - 4100
DESCRIPTION:
URL:https://runawayinequality.org/event/1-hour-with-cwa-locals-4032-4034-4035-4008-4103-4100/
LOCATION:Saginaw MI\, Saginaw\, MI\, United States
END:VEVENT
BEGIN:VEVENT
DTSTART;TZID=UTC:20160324T080000
DTEND;TZID=UTC:20160324T170000
DTSTAMP:20260421T101417
CREATED:20180921T163112Z
LAST-MODIFIED:20180921T163112Z
UID:12782-1458806400-1458838800@runawayinequality.org
SUMMARY:Full day with CWA Locals 1168 - 1122
DESCRIPTION:
URL:https://runawayinequality.org/event/full-day-with-cwa-locals-1168-1122-2/
LOCATION:Buffalo NY\, Buffalo\, NY\, United States
END:VEVENT
BEGIN:VEVENT
DTSTART;TZID=UTC:20160322T080000
DTEND;TZID=UTC:20160322T170000
DTSTAMP:20260421T101417
CREATED:20180921T163111Z
LAST-MODIFIED:20180921T163111Z
UID:12781-1458633600-1458666000@runawayinequality.org
SUMMARY:Full day with CWA Locals 1108
DESCRIPTION:
URL:https://runawayinequality.org/event/full-day-with-cwa-locals-1108/
LOCATION:Long Island NY\, Long Island\, NY\, United States
END:VEVENT
BEGIN:VEVENT
DTSTART;TZID=UTC:20160321T080000
DTEND;TZID=UTC:20160321T170000
DTSTAMP:20260421T101417
CREATED:20180921T163111Z
LAST-MODIFIED:20180921T163111Z
UID:12780-1458547200-1458579600@runawayinequality.org
SUMMARY:Full day with CWA Locals 1101 - 1106 - 1109
DESCRIPTION:
URL:https://runawayinequality.org/event/full-day-with-cwa-locals-1101-1106-1109-2/
LOCATION:NYC NY\, NYC\, NY\, United States
END:VEVENT
END:VCALENDAR