BEGIN:VCALENDAR
VERSION:2.0
PRODID:-//Reversing Runaway Inequality - ECPv6.15.15//NONSGML v1.0//EN
CALSCALE:GREGORIAN
METHOD:PUBLISH
X-ORIGINAL-URL:https://runawayinequality.org
X-WR-CALDESC:Events for Reversing Runaway Inequality
REFRESH-INTERVAL;VALUE=DURATION:PT1H
X-Robots-Tag:noindex
X-PUBLISHED-TTL:PT1H
BEGIN:VTIMEZONE
TZID:UTC
BEGIN:STANDARD
TZOFFSETFROM:+0000
TZOFFSETTO:+0000
TZNAME:UTC
DTSTART:20150101T000000
END:STANDARD
END:VTIMEZONE
BEGIN:VEVENT
DTSTART;TZID=UTC:20160320T000000
DTEND;TZID=UTC:20160320T000000
DTSTAMP:20260421T142358
CREATED:20181023T221936Z
LAST-MODIFIED:20181023T221936Z
UID:14019-1458432000-1458432000@runawayinequality.org
SUMMARY:with CWA
DESCRIPTION:
URL:https://runawayinequality.org/event/with-cwa-18/
LOCATION:MI
END:VEVENT
BEGIN:VEVENT
DTSTART;TZID=UTC:20160320T000000
DTEND;TZID=UTC:20160320T000000
DTSTAMP:20260421T142358
CREATED:20181023T181717Z
LAST-MODIFIED:20181023T181717Z
UID:13811-1458432000-1458432000@runawayinequality.org
SUMMARY:with CWA
DESCRIPTION:
URL:https://runawayinequality.org/event/with-cwa-13/
LOCATION:MI
END:VEVENT
BEGIN:VEVENT
DTSTART;TZID=UTC:20160318T080000
DTEND;TZID=UTC:20160318T170000
DTSTAMP:20260421T142358
CREATED:20180921T163148Z
LAST-MODIFIED:20180921T163148Z
UID:12846-1458288000-1458320400@runawayinequality.org
SUMMARY:Full day with JWJ Locals 1105
DESCRIPTION:
URL:https://runawayinequality.org/event/full-day-with-jwj-locals-1105/
LOCATION:Brooklyn NY\, Brooklyn\, NY\, United States
END:VEVENT
BEGIN:VEVENT
DTSTART;TZID=UTC:20160316T080000
DTEND;TZID=UTC:20160316T170000
DTSTAMP:20260421T142358
CREATED:20180921T163111Z
LAST-MODIFIED:20180921T163111Z
UID:12779-1458115200-1458147600@runawayinequality.org
SUMMARY:Full day with CWA Locals 1120
DESCRIPTION:
URL:https://runawayinequality.org/event/full-day-with-cwa-locals-1120/
LOCATION:Hudson Valley NY\, Hudson Valley\, NY\, United States
END:VEVENT
BEGIN:VEVENT
DTSTART;TZID=UTC:20160311T190000
DTEND;TZID=UTC:20160311T210000
DTSTAMP:20260421T142358
CREATED:20180921T163102Z
LAST-MODIFIED:20180921T163102Z
UID:12764-1457722800-1457730000@runawayinequality.org
SUMMARY:2-hour with CWA Locals 1101 - 1106 - 1109
DESCRIPTION:
URL:https://runawayinequality.org/event/2-hour-with-cwa-locals-1101-1106-1109/
LOCATION:NYC NY\, NYC\, NY\, United States
END:VEVENT
BEGIN:VEVENT
DTSTART;TZID=UTC:20160311T000000
DTEND;TZID=UTC:20160311T000000
DTSTAMP:20260421T142358
CREATED:20181023T221935Z
LAST-MODIFIED:20181023T221935Z
UID:14018-1457654400-1457654400@runawayinequality.org
SUMMARY:with Buffalo Federation of Labor
DESCRIPTION:
URL:https://runawayinequality.org/event/with-buffalo-federation-of-labor-4/
LOCATION:MI
END:VEVENT
BEGIN:VEVENT
DTSTART;TZID=UTC:20160311T000000
DTEND;TZID=UTC:20160311T000000
DTSTAMP:20260421T142358
CREATED:20181023T181716Z
LAST-MODIFIED:20181023T181716Z
UID:13808-1457654400-1457654400@runawayinequality.org
SUMMARY:with Buffalo Federation of Labor
DESCRIPTION:
URL:https://runawayinequality.org/event/with-buffalo-federation-of-labor-3/
LOCATION:MI
END:VEVENT
BEGIN:VEVENT
DTSTART;TZID=UTC:20160309T100000
DTEND;TZID=UTC:20160309T130000
DTSTAMP:20260421T142358
CREATED:20181023T181810Z
LAST-MODIFIED:20181023T181810Z
UID:13926-1457517600-1457528400@runawayinequality.org
SUMMARY:Workshop with NYCET
DESCRIPTION:
URL:https://runawayinequality.org/event/workshop-with-nycet-2/
LOCATION:UAW\, NYC\, NY\, United States
END:VEVENT
BEGIN:VEVENT
DTSTART;TZID=UTC:20160307T000000
DTEND;TZID=UTC:20160307T000000
DTSTAMP:20260421T142358
CREATED:20181023T221933Z
LAST-MODIFIED:20181023T221933Z
UID:14017-1457308800-1457308800@runawayinequality.org
SUMMARY:with Peoples Action
DESCRIPTION:
URL:https://runawayinequality.org/event/with-peoples-action-7/
LOCATION:Washington DC\, Washington\, DC\, United States
END:VEVENT
BEGIN:VEVENT
DTSTART;TZID=UTC:20160307T000000
DTEND;TZID=UTC:20160307T000000
DTSTAMP:20260421T142358
CREATED:20181023T181715Z
LAST-MODIFIED:20181023T181715Z
UID:13806-1457308800-1457308800@runawayinequality.org
SUMMARY:with Peoples Action
DESCRIPTION:
URL:https://runawayinequality.org/event/with-peoples-action-5/
LOCATION:Washington DC\, Washington\, DC\, United States
END:VEVENT
BEGIN:VEVENT
DTSTART;TZID=UTC:20160304T080000
DTEND;TZID=UTC:20160304T170000
DTSTAMP:20260421T142358
CREATED:20180921T163109Z
LAST-MODIFIED:20180921T163109Z
UID:12778-1457078400-1457110800@runawayinequality.org
SUMMARY:Full day with CWA Locals 1101 - 1106 - 1109
DESCRIPTION:
URL:https://runawayinequality.org/event/full-day-with-cwa-locals-1101-1106-1109/
LOCATION:NYC NY\, NYC\, NY\, United States
END:VEVENT
BEGIN:VEVENT
DTSTART;TZID=UTC:20160302T080000
DTEND;TZID=UTC:20160302T170000
DTSTAMP:20260421T142358
CREATED:20180921T163109Z
LAST-MODIFIED:20180921T163109Z
UID:12777-1456905600-1456938000@runawayinequality.org
SUMMARY:Full day with CWA Locals 1118 - IUE
DESCRIPTION:
URL:https://runawayinequality.org/event/full-day-with-cwa-locals-1118-iue/
LOCATION:Albany NY\, Albany\, NY\, United States
END:VEVENT
BEGIN:VEVENT
DTSTART;TZID=UTC:20160226T080000
DTEND;TZID=UTC:20160226T170000
DTSTAMP:20260421T142358
CREATED:20180921T163109Z
LAST-MODIFIED:20180921T163109Z
UID:12776-1456473600-1456506000@runawayinequality.org
SUMMARY:Full day with CWA Locals 1104 - 1108
DESCRIPTION:
URL:https://runawayinequality.org/event/full-day-with-cwa-locals-1104-1108/
LOCATION:Long Island NY\, Long Island\, NY\, United States
END:VEVENT
BEGIN:VEVENT
DTSTART;TZID=UTC:20160224T080000
DTEND;TZID=UTC:20160224T170000
DTSTAMP:20260421T142358
CREATED:20180921T163108Z
LAST-MODIFIED:20180921T163108Z
UID:12775-1456300800-1456333200@runawayinequality.org
SUMMARY:Full day with CWA Locals 1168 - 1122
DESCRIPTION:
URL:https://runawayinequality.org/event/full-day-with-cwa-locals-1168-1122/
LOCATION:Buffalo NY\, Buffalo\, NY\, United States
END:VEVENT
BEGIN:VEVENT
DTSTART;TZID=UTC:20160219T080000
DTEND;TZID=UTC:20160219T170000
DTSTAMP:20260421T142358
CREATED:20180921T163108Z
LAST-MODIFIED:20180921T163108Z
UID:12774-1455868800-1455901200@runawayinequality.org
SUMMARY:Full day with CWA Locals 1123 - 1126
DESCRIPTION:
URL:https://runawayinequality.org/event/full-day-with-cwa-locals-1123-1126/
LOCATION:Utica NY\, Utica\, NY\, United States
END:VEVENT
BEGIN:VEVENT
DTSTART;TZID=UTC:20160218T100000
DTEND;TZID=UTC:20160218T120000
DTSTAMP:20260421T142358
CREATED:20181023T181808Z
LAST-MODIFIED:20181023T181808Z
UID:13925-1455789600-1455796800@runawayinequality.org
SUMMARY:Workshop with It Takes a Village Action Organization
DESCRIPTION:
URL:https://runawayinequality.org/event/workshop-with-it-takes-a-village-action-organization-2/
LOCATION:It Takes a Village (Rapha Family Wellness Center)\, Buffalo\, NY\, United States
END:VEVENT
BEGIN:VEVENT
DTSTART;TZID=UTC:20160217T173000
DTEND;TZID=UTC:20160217T210000
DTSTAMP:20260421T142358
CREATED:20181023T181808Z
LAST-MODIFIED:20181023T181808Z
UID:13924-1455730200-1455742800@runawayinequality.org
SUMMARY:Workshop with PUSH and Citizen Action
DESCRIPTION:
URL:https://runawayinequality.org/event/workshop-with-push-and-citizen-action-2/
LOCATION:PUSH\, Buffalo\, NY\, United States
END:VEVENT
BEGIN:VEVENT
DTSTART;TZID=UTC:20160216T000000
DTEND;TZID=UTC:20160216T000000
DTSTAMP:20260421T142358
CREATED:20180921T163054Z
LAST-MODIFIED:20180921T163054Z
UID:12758-1455580800-1455580800@runawayinequality.org
SUMMARY:? with CWA Locals IUE - 1400
DESCRIPTION:
URL:https://runawayinequality.org/event/with-cwa-locals-iue-1400/
LOCATION:Boston NY\, Boston\, NY\, United States
END:VEVENT
BEGIN:VEVENT
DTSTART;TZID=UTC:20160211T080000
DTEND;TZID=UTC:20160211T170000
DTSTAMP:20260421T142358
CREATED:20180921T163107Z
LAST-MODIFIED:20180921T163107Z
UID:12773-1455177600-1455210000@runawayinequality.org
SUMMARY:Full day with CWA Locals 1103 - 1107
DESCRIPTION:
URL:https://runawayinequality.org/event/full-day-with-cwa-locals-1103-1107/
LOCATION:Westchester NY\, Westchester\, NY\, United States
END:VEVENT
BEGIN:VEVENT
DTSTART;TZID=UTC:20160208T000000
DTEND;TZID=UTC:20160208T000000
DTSTAMP:20260421T142358
CREATED:20181023T221931Z
LAST-MODIFIED:20181023T221931Z
UID:14016-1454889600-1454889600@runawayinequality.org
SUMMARY:with CWA
DESCRIPTION:
URL:https://runawayinequality.org/event/with-cwa-17/
LOCATION:MI
END:VEVENT
BEGIN:VEVENT
DTSTART;TZID=UTC:20160208T000000
DTEND;TZID=UTC:20160208T000000
DTSTAMP:20260421T142358
CREATED:20181023T181712Z
LAST-MODIFIED:20181023T181712Z
UID:13798-1454889600-1454889600@runawayinequality.org
SUMMARY:with CWA
DESCRIPTION:
URL:https://runawayinequality.org/event/with-cwa-12/
LOCATION:MI
END:VEVENT
BEGIN:VEVENT
DTSTART;TZID=UTC:20160203T000000
DTEND;TZID=UTC:20160203T000000
DTSTAMP:20260421T142358
CREATED:20181023T181807Z
LAST-MODIFIED:20181023T181807Z
UID:13923-1454457600-1454457600@runawayinequality.org
SUMMARY:Workshop with Working Families Party
DESCRIPTION:
URL:https://runawayinequality.org/event/workshop-with-working-families-party/
LOCATION:Buffalo NY\, Buffalo\, NY\, United States
END:VEVENT
BEGIN:VEVENT
DTSTART;TZID=UTC:20160201T000000
DTEND;TZID=UTC:20160201T000000
DTSTAMP:20260421T142358
CREATED:20181023T221931Z
LAST-MODIFIED:20181023T221931Z
UID:14015-1454284800-1454284800@runawayinequality.org
SUMMARY:with CWA
DESCRIPTION:
URL:https://runawayinequality.org/event/with-cwa-16/
LOCATION:MI
END:VEVENT
BEGIN:VEVENT
DTSTART;TZID=UTC:20160201T000000
DTEND;TZID=UTC:20160201T000000
DTSTAMP:20260421T142358
CREATED:20181023T181712Z
LAST-MODIFIED:20181023T181712Z
UID:13797-1454284800-1454284800@runawayinequality.org
SUMMARY:with CWA
DESCRIPTION:
URL:https://runawayinequality.org/event/with-cwa-11/
LOCATION:MI
END:VEVENT
BEGIN:VEVENT
DTSTART;TZID=UTC:20160130T000000
DTEND;TZID=UTC:20160130T000000
DTSTAMP:20260421T142358
CREATED:20181023T221929Z
LAST-MODIFIED:20181023T221929Z
UID:14014-1454112000-1454112000@runawayinequality.org
SUMMARY:with Citizen Action Conference
DESCRIPTION:
URL:https://runawayinequality.org/event/with-citizen-action-conference-4/
LOCATION:MI
END:VEVENT
BEGIN:VEVENT
DTSTART;TZID=UTC:20160130T000000
DTEND;TZID=UTC:20160130T000000
DTSTAMP:20260421T142358
CREATED:20181023T181710Z
LAST-MODIFIED:20181023T181710Z
UID:13796-1454112000-1454112000@runawayinequality.org
SUMMARY:with Citizen Action Conference
DESCRIPTION:
URL:https://runawayinequality.org/event/with-citizen-action-conference-3/
LOCATION:MI
END:VEVENT
BEGIN:VEVENT
DTSTART;TZID=UTC:20160126T000000
DTEND;TZID=UTC:20160126T000000
DTSTAMP:20260421T142358
CREATED:20181023T221929Z
LAST-MODIFIED:20181023T221929Z
UID:14013-1453766400-1453766400@runawayinequality.org
SUMMARY:with CWA Nurses
DESCRIPTION:
URL:https://runawayinequality.org/event/with-cwa-nurses-8/
LOCATION:MI
END:VEVENT
BEGIN:VEVENT
DTSTART;TZID=UTC:20160126T000000
DTEND;TZID=UTC:20160126T000000
DTSTAMP:20260421T142358
CREATED:20181023T181710Z
LAST-MODIFIED:20181023T181710Z
UID:13795-1453766400-1453766400@runawayinequality.org
SUMMARY:with CWA Nurses
DESCRIPTION:
URL:https://runawayinequality.org/event/with-cwa-nurses-6/
LOCATION:MI
END:VEVENT
BEGIN:VEVENT
DTSTART;TZID=UTC:20160118T000000
DTEND;TZID=UTC:20160118T000000
DTSTAMP:20260421T142358
CREATED:20181023T221928Z
LAST-MODIFIED:20181023T221928Z
UID:14012-1453075200-1453075200@runawayinequality.org
SUMMARY:with CWA Nurses
DESCRIPTION:
URL:https://runawayinequality.org/event/with-cwa-nurses-7/
LOCATION:MI
END:VEVENT
BEGIN:VEVENT
DTSTART;TZID=UTC:20160118T000000
DTEND;TZID=UTC:20160118T000000
DTSTAMP:20260421T142358
CREATED:20181023T181709Z
LAST-MODIFIED:20181023T181709Z
UID:13794-1453075200-1453075200@runawayinequality.org
SUMMARY:with CWA Nurses
DESCRIPTION:
URL:https://runawayinequality.org/event/with-cwa-nurses-5/
LOCATION:MI
END:VEVENT
END:VCALENDAR